BEGIN:VCALENDAR
VERSION:2.0
PRODID:-//Evidence Based Investing - ECPv6.15.18//NONSGML v1.0//EN
CALSCALE:GREGORIAN
METHOD:PUBLISH
X-WR-CALNAME:Evidence Based Investing
X-ORIGINAL-URL:https://ebi.co.uk
X-WR-CALDESC:Events for Evidence Based Investing
REFRESH-INTERVAL;VALUE=DURATION:PT1H
X-Robots-Tag:noindex
X-PUBLISHED-TTL:PT1H
BEGIN:VTIMEZONE
TZID:Europe/London
BEGIN:DAYLIGHT
TZOFFSETFROM:+0000
TZOFFSETTO:+0100
TZNAME:BST
DTSTART:20240331T010000
END:DAYLIGHT
BEGIN:STANDARD
TZOFFSETFROM:+0100
TZOFFSETTO:+0000
TZNAME:GMT
DTSTART:20241027T010000
END:STANDARD
BEGIN:DAYLIGHT
TZOFFSETFROM:+0000
TZOFFSETTO:+0100
TZNAME:BST
DTSTART:20250330T010000
END:DAYLIGHT
BEGIN:STANDARD
TZOFFSETFROM:+0100
TZOFFSETTO:+0000
TZNAME:GMT
DTSTART:20251026T010000
END:STANDARD
BEGIN:DAYLIGHT
TZOFFSETFROM:+0000
TZOFFSETTO:+0100
TZNAME:BST
DTSTART:20260329T010000
END:DAYLIGHT
BEGIN:STANDARD
TZOFFSETFROM:+0100
TZOFFSETTO:+0000
TZNAME:GMT
DTSTART:20261025T010000
END:STANDARD
END:VTIMEZONE
BEGIN:VEVENT
DTSTART;TZID=Europe/London:20251105T110000
DTEND;TZID=Europe/London:20251105T120000
DTSTAMP:20260424T130741
CREATED:20251016T095804Z
LAST-MODIFIED:20251020T081944Z
UID:19660-1762340400-1762344000@ebi.co.uk
SUMMARY:Introducing ebi's Global Factor Fund of Funds: Smart Factors\, Sustainable Focus
DESCRIPTION:Introducing ebi Global Factor Funds: Smart Factors\, Sustainable Focus  \n\n\n\nJoin us for our Fund of Funds webinar\, where ebi’s Head of Investment Jonathan Griffiths will introduce ebi’s new Global Factor funds.As part of this\, we’ll provide an overview of the multi-asset / fund of funds universe and how ebi’s Global Factor funds offer a unique combination of factor exposure combined with ESG screening.We’ll then explore ebi’s Global Factor funds in more detail\, outlining their investment philosophy\, portfolio construction\, and fund allocations. \n\n\n\n \n\n\n\nWe will discuss: \n\n\n\n1. Gain an understanding of the broad multi-asset / fund of funds universe \n\n\n\n2. Develop knowledge in relation to ebi’s Global Factor Funds\, including investment philosophy\, portfolio construction\, and fund allocations \n\n\n\n3. Gain an understanding of how the Global Factor funds will operate\, and the types of clients they may be suitable for \n\n\n\nStructured CPD Applicable. For Financial Professionals Only \n\n\n\n\nBook your place\n\n\n\n\n\n\n\n\n\n\n\n\nJonathan Griffiths\, CFA\, Head of Investment\n\n\n\nJon is Head of Investment at ebi Portfolios. Joining ebi in 2023\, he has 14 years’ experience in the investment industry\, including roles as an Investment Specialist within a fund manager and as an Investment Analyst within an investment consultancy. \n\n\n\nJon is responsible for investment research and analysis\, communicating information on ebi’s portfolio suite\, and providing investment solutions to clients. \n\n\n\nJon is a CFA Charterholder\, and graduated from the University of Nottingham with a BSc (Hons) Mathematics and Economics (First Class) degree. He holds the CFA UK Investment Management Certificate (IMC)\, CFA Institute Sustainable Investing Certificate\, CFA UK Certificate in Climate and Investing\, and the CFA UK Certificate in Impact Investing.
URL:https://ebi.co.uk/events/introducing-ebi-global-factor-funds-smart-factors-sustainable-focus/
LOCATION:Online
ATTACH;FMTTYPE=image/png:https://ebi.co.uk/wp-content/uploads/2025/10/website-2.png
END:VEVENT
BEGIN:VEVENT
DTSTART;TZID=Europe/London:20251125T130000
DTEND;TZID=Europe/London:20251125T140000
DTSTAMP:20260424T130741
CREATED:20251008T112121Z
LAST-MODIFIED:20251017T152719Z
UID:19644-1764075600-1764079200@ebi.co.uk
SUMMARY:Bitcoin & Beyond
DESCRIPTION:Bitcoin & Beyond: an introduction to the cryptocurrency asset class\, and the FCA’s recent regulatory changes\n\n\n\nJoin us for our cryptocurrency webinar\, where ebi’s Head of Investment Jonathan Griffiths will provide an update on the FCA’s recent lifting of its ban on crypto exchange-traded notes (cETNs)\, and the impact of this on the UK investment industry. As part of this\, we’ll provide an introduction to the crypto asset class\, with a focus on Bitcoin We’ll explore the current state of the Bitcoin network\, and share ebi’s views on this emerging asset class. \n\n\n\nWe will discuss: \n\n\n\n1. Gain an understanding of the FCA’s recent changes as it relates to crypto exchange traded notes2. Develop knowledge in relation to the first cryptocurrency Bitcoin\, including the its origins\, operation\, evolution3. Gain awareness of ebi’s view in relation to this emerging asset class \n\n\n\n60 Structured CPD Applicable. For Financial Professionals Only \n\n\n\n\nBook your place\n\n\n\n\n\n\n\n\n\n\n\n\nJonathan Griffiths\, CFA\, Head of Investment\n\n\n\nJon is Head of Investment at ebi Portfolios. Joining ebi in 2023\, he has 14 years’ experience in the investment industry\, including roles as an Investment Specialist within a fund manager and as an Investment Analyst within an investment consultancy. \n\n\n\nJon is responsible for investment research and analysis\, communicating information on ebi’s portfolio suite\, and providing investment solutions to clients. \n\n\n\nJon is a CFA Charterholder\, and graduated from the University of Nottingham with a BSc (Hons) Mathematics and Economics (First Class) degree. He holds the CFA UK Investment Management Certificate (IMC)\, CFA Institute Sustainable Investing Certificate\, CFA UK Certificate in Climate and Investing\, and the CFA UK Certificate in Impact Investing.
URL:https://ebi.co.uk/events/bitcoin-beyond/
LOCATION:Online
ATTACH;FMTTYPE=image/png:https://ebi.co.uk/wp-content/uploads/2025/10/Crypto-Website.png
END:VEVENT
END:VCALENDAR