BEGIN:VCALENDAR
VERSION:2.0
PRODID:-//Evidence Based Investing - ECPv6.15.18//NONSGML v1.0//EN
CALSCALE:GREGORIAN
METHOD:PUBLISH
X-ORIGINAL-URL:https://ebi.co.uk
X-WR-CALDESC:Events for Evidence Based Investing
REFRESH-INTERVAL;VALUE=DURATION:PT1H
X-Robots-Tag:noindex
X-PUBLISHED-TTL:PT1H
BEGIN:VTIMEZONE
TZID:Europe/London
BEGIN:DAYLIGHT
TZOFFSETFROM:+0000
TZOFFSETTO:+0100
TZNAME:BST
DTSTART:20240331T010000
END:DAYLIGHT
BEGIN:STANDARD
TZOFFSETFROM:+0100
TZOFFSETTO:+0000
TZNAME:GMT
DTSTART:20241027T010000
END:STANDARD
BEGIN:DAYLIGHT
TZOFFSETFROM:+0000
TZOFFSETTO:+0100
TZNAME:BST
DTSTART:20250330T010000
END:DAYLIGHT
BEGIN:STANDARD
TZOFFSETFROM:+0100
TZOFFSETTO:+0000
TZNAME:GMT
DTSTART:20251026T010000
END:STANDARD
BEGIN:DAYLIGHT
TZOFFSETFROM:+0000
TZOFFSETTO:+0100
TZNAME:BST
DTSTART:20260329T010000
END:DAYLIGHT
BEGIN:STANDARD
TZOFFSETFROM:+0100
TZOFFSETTO:+0000
TZNAME:GMT
DTSTART:20261025T010000
END:STANDARD
END:VTIMEZONE
BEGIN:VEVENT
DTSTART;TZID=Europe/London:20251016T130000
DTEND;TZID=Europe/London:20251016T140000
DTSTAMP:20260420T130625
CREATED:20250922T150116Z
LAST-MODIFIED:20260219T144757Z
UID:19240-1760619600-1760623200@ebi.co.uk
SUMMARY:Data Not Date: Exploring Approaches to Portfolio Rebalancing
DESCRIPTION:Data Not Date: Exploring Approaches to Portfolio Rebalancing\n\n\n\nJoin us for this webinar where Business Development Manager Tom Ranft and Head of Investment Jonathan Griffiths will provide an overview of the different approaches to portfolio rebalancing\, and the results of ebi’s long-term rebalancing data study. \n\n\n\nLearning Objectives: \n\n\n\n1. Understand the differences between calendar-based rebalancing and tolerance-based rebalancing. \n\n\n\n2. Gain knowledge of the results of ebi’s long-term rebalancing study\, comparing a range of different approaches to rebalancing. \n\n\n\n3. Understand how a tolerance-based rebalancing approach can potentially lead to superior returns over the long-run. \n\n\n\nStructured CPD Applicable. For Financial Professionals Only \n\n\n\n\nBook your place\n\n\n\n\n\n\n\n\n\n\nTom Ranft – Business Development Manager\n\n\n\nTom Ranft is a Business Development Manager at ebi Portfolio’s joining in 2024. Tom is responsible for introducing ebi to advisors across his regions\, London and Southeast. He has joined us from a distinguished background from Lombard Odier and LGIM\, bringing a wealth of expertise. Other than his interest in financial markets Tom has a keen interest in Rugby still playing for local teams in London where he is based. \n\n\n\n\n\n\n\nJonathan Griffiths\, CFA\, Head of Investment\n\n\n\nJon is responsible for investment research and analysis\, communicating information on ebi’s portfolio suite\, and providing investment solutions to clients. Jon is a CFA Charterholder and graduated from the University of Nottingham with a BSc (Hons) Mathematics and Economics (First Class) degree. He holds the CFA UK Investment Management Certificate (IMC) and the CFA Institute Certificate in ESG Investing.
URL:https://ebi.co.uk/events/data-not-date-exploring-approaches-to-portfolio-rebalancing/
LOCATION:Online
ATTACH;FMTTYPE=image/png:https://ebi.co.uk/wp-content/uploads/2025/05/website-3.png
END:VEVENT
BEGIN:VEVENT
DTSTART;TZID=Europe/London:20251023T130000
DTEND;TZID=Europe/London:20251023T140000
DTSTAMP:20260420T130625
CREATED:20250909T121053Z
LAST-MODIFIED:20260220T135823Z
UID:19500-1761224400-1761228000@ebi.co.uk
SUMMARY:ebi Quarter Three 2025 Update
DESCRIPTION:ebi Quarter Three 2025 Update with Jonathan Griffiths\, CFA and Tom Ranft of ebi\n\n\n\nJonathan Griffiths CFA and Tom Ranft at ebi will provide a quarter 3 macroeconomic overview followed by an asset class review and ebi portfolio update. Join ebi’s Quarter Three 2025 Update. \n\n\n\nWe will discuss: \n\n\n\n\nQtr 3 macroeconomic overview\n\n\n\nAsset class overview\n\n\n\nFactor performance overview\n\n\n\nebi news\n\n\n\n\n45 Structured CPD Applicable. For Financial Professionals Only \n\n\n\n\nBook your place\n\n\n\n\n\n\n\n\n\n\n\n\nJonathan Griffiths\, CFA\, Head of Investment\n\n\n\nJon is Head of Investment at ebi Portfolios. Joining ebi in 2023\, he has 14 years’ experience in the investment industry\, including roles as an Investment Specialist within a fund manager and as an Investment Analyst within an investment consultancy. \n\n\n\nJon is responsible for investment research and analysis\, communicating information on ebi’s portfolio suite\, and providing investment solutions to clients. \n\n\n\nJon is a CFA Charterholder\, and graduated from the University of Nottingham with a BSc (Hons) Mathematics and Economics (First Class) degree. He holds the CFA UK Investment Management Certificate (IMC)\, CFA Institute Sustainable Investing Certificate\, CFA UK Certificate in Climate and Investing\, and the CFA UK Certificate in Impact Investing. \n\n\n\n\n\n\n\nTom Ranft\, Business Development Manager\n\n\n\nTom Ranft is a Business Development Manager at ebi Portfolio’s joining in 2024. Tom is responsible for introducing ebi to advisors across his regions\, London and Southeast. He has joined us from a distinguished background from Lombard Odier and LGIM\, bringing a wealth of expertise.
URL:https://ebi.co.uk/events/ebi-quarter-three-2025-update/
LOCATION:Online
ATTACH;FMTTYPE=image/png:https://ebi.co.uk/wp-content/uploads/2025/09/WEBSITE-1.png
END:VEVENT
END:VCALENDAR