BEGIN:VCALENDAR
VERSION:2.0
PRODID:-//Evidence Based Investing - ECPv6.15.18//NONSGML v1.0//EN
CALSCALE:GREGORIAN
METHOD:PUBLISH
X-ORIGINAL-URL:https://ebi.co.uk
X-WR-CALDESC:Events for Evidence Based Investing
REFRESH-INTERVAL;VALUE=DURATION:PT1H
X-Robots-Tag:noindex
X-PUBLISHED-TTL:PT1H
BEGIN:VTIMEZONE
TZID:Europe/London
BEGIN:DAYLIGHT
TZOFFSETFROM:+0000
TZOFFSETTO:+0100
TZNAME:BST
DTSTART:20230326T010000
END:DAYLIGHT
BEGIN:STANDARD
TZOFFSETFROM:+0100
TZOFFSETTO:+0000
TZNAME:GMT
DTSTART:20231029T010000
END:STANDARD
BEGIN:DAYLIGHT
TZOFFSETFROM:+0000
TZOFFSETTO:+0100
TZNAME:BST
DTSTART:20240331T010000
END:DAYLIGHT
BEGIN:STANDARD
TZOFFSETFROM:+0100
TZOFFSETTO:+0000
TZNAME:GMT
DTSTART:20241027T010000
END:STANDARD
BEGIN:DAYLIGHT
TZOFFSETFROM:+0000
TZOFFSETTO:+0100
TZNAME:BST
DTSTART:20250330T010000
END:DAYLIGHT
BEGIN:STANDARD
TZOFFSETFROM:+0100
TZOFFSETTO:+0000
TZNAME:GMT
DTSTART:20251026T010000
END:STANDARD
END:VTIMEZONE
BEGIN:VEVENT
DTSTART;TZID=Europe/London:20240722T130000
DTEND;TZID=Europe/London:20240722T140000
DTSTAMP:20260421T183249
CREATED:20240701T091428Z
LAST-MODIFIED:20250422T123326Z
UID:18063-1721653200-1721656800@ebi.co.uk
SUMMARY:ebi Quarter Two 2024 Update with Jonathan Griffiths\, CFA of ebi
DESCRIPTION:ebi Quarter Two 2024 Update with Jonathan Griffiths\, CFA of ebi\n\n\n\nJonathan Griffiths\, CFA ebi’s Investment Product Manager will provide a macroeconomic overview\, asset class review and ebi portfolio update. \n\n\n\nWe will discuss: \n\n\n\n\nQuarter 2 macroeconomic overview\n\n\n\nAsset class overview\n\n\n\nFactor performance overview\n\n\n\n\nAll this and more within ebi’s technology suite\, which has been designed by advisers for advisers. \n\n\n\n45 Structured CPD Applicable. For Financial Professionals Only \n\n\n\nBook your place\n\n\n\n\n\n\n\n\n\nJonathan Griffiths\, CFA\, Investment Product Manager at ebi\n\n\n\nJonathan is responsible for investment research and analysis\, communicating information on ebi’s portfolio suite\, and providing investment solutions to clients. Jonathan is a CFA Charterholder\, and graduated from the University of Nottingham with a BSc (Hons) Mathematics and Economics (First Class) degree. He holds the CFA UK Investment Management Certificate (IMC) and the CFA Institute Certificate in ESG Investing.
URL:https://ebi.co.uk/events/ebi-quarter-two-2024-update-with-jonathan-griffiths-cfa-of-ebi/
LOCATION:Online
ATTACH;FMTTYPE=image/png:https://ebi.co.uk/wp-content/uploads/2024/07/website.png
END:VEVENT
END:VCALENDAR