BEGIN:VCALENDAR
VERSION:2.0
PRODID:-//Evidence Based Investing - ECPv6.15.18//NONSGML v1.0//EN
CALSCALE:GREGORIAN
METHOD:PUBLISH
X-WR-CALNAME:Evidence Based Investing
X-ORIGINAL-URL:https://ebi.co.uk
X-WR-CALDESC:Events for Evidence Based Investing
REFRESH-INTERVAL;VALUE=DURATION:PT1H
X-Robots-Tag:noindex
X-PUBLISHED-TTL:PT1H
BEGIN:VTIMEZONE
TZID:Europe/London
BEGIN:DAYLIGHT
TZOFFSETFROM:+0000
TZOFFSETTO:+0100
TZNAME:BST
DTSTART:20220327T010000
END:DAYLIGHT
BEGIN:STANDARD
TZOFFSETFROM:+0100
TZOFFSETTO:+0000
TZNAME:GMT
DTSTART:20221030T010000
END:STANDARD
BEGIN:DAYLIGHT
TZOFFSETFROM:+0000
TZOFFSETTO:+0100
TZNAME:BST
DTSTART:20230326T010000
END:DAYLIGHT
BEGIN:STANDARD
TZOFFSETFROM:+0100
TZOFFSETTO:+0000
TZNAME:GMT
DTSTART:20231029T010000
END:STANDARD
BEGIN:DAYLIGHT
TZOFFSETFROM:+0000
TZOFFSETTO:+0100
TZNAME:BST
DTSTART:20240331T010000
END:DAYLIGHT
BEGIN:STANDARD
TZOFFSETFROM:+0100
TZOFFSETTO:+0000
TZNAME:GMT
DTSTART:20241027T010000
END:STANDARD
END:VTIMEZONE
BEGIN:VEVENT
DTSTART;TZID=Europe/London:20230525T100000
DTEND;TZID=Europe/London:20230525T110000
DTSTAMP:20260423T234039
CREATED:20230303T131144Z
LAST-MODIFIED:20230623T084107Z
UID:14975-1685008800-1685012400@ebi.co.uk
SUMMARY:Insights to innovation – Devising your marketing game plan in 2023 an interview with Phil from Yardstick
DESCRIPTION:Insights to innovation – Devising your marketing game plan in 2023 an interview with Phil from Yardstick\n\n\n\nPhil Bray from The Yardstick Agency joins ebi Compound Interest webinar series to discuss creating a winning marketing strategy. \n\n\n\nTalking points: \n\n\n\n\n\n\n‘In house’ marketing strategy vs outsourced\n\n\n\nDigital marketing vs referrals\n\n\n\nWhere to start when starting from scratch\n\n\n\nLeveraging AI/Chat GPT for your marketing\n\n\n\nAvoid marketing plan mistakes\n\n\n\nCapturing the right web traffic\n\n\n\n\nStructured CPD Applicable. \n\n\n\nFor Financial Professionals Only \n\n\n\n  Register Here\n\n\n\n\n\n\n\n\n\nPhil Bray\, Founder & Director of Yardstick\n\n\n\n\n\nNow in his third decade in financial services\, Phil’s experience spans advising\, compliance and marketing. \n\n\n\nPhil brings this unique mix of knowledge and experience to all Yardstick clients. He’s long held a dream of providing truly high-quality marketing options to financial advisers and planners\, brokers and providers.
URL:https://ebi.co.uk/events/insights-to-innovation-devising-your-marketing-game-plan-in-2023-an-interview-with-phil-from-yardstick/
LOCATION:Online
ATTACH;FMTTYPE=image/png:https://ebi.co.uk/wp-content/uploads/2023/03/website.png
END:VEVENT
END:VCALENDAR