BEGIN:VCALENDAR
VERSION:2.0
PRODID:-//Evidence Based Investing - ECPv6.15.18//NONSGML v1.0//EN
CALSCALE:GREGORIAN
METHOD:PUBLISH
X-ORIGINAL-URL:https://ebi.co.uk
X-WR-CALDESC:Events for Evidence Based Investing
REFRESH-INTERVAL;VALUE=DURATION:PT1H
X-Robots-Tag:noindex
X-PUBLISHED-TTL:PT1H
BEGIN:VTIMEZONE
TZID:Europe/London
BEGIN:DAYLIGHT
TZOFFSETFROM:+0000
TZOFFSETTO:+0100
TZNAME:BST
DTSTART:20230326T010000
END:DAYLIGHT
BEGIN:STANDARD
TZOFFSETFROM:+0100
TZOFFSETTO:+0000
TZNAME:GMT
DTSTART:20231029T010000
END:STANDARD
BEGIN:DAYLIGHT
TZOFFSETFROM:+0000
TZOFFSETTO:+0100
TZNAME:BST
DTSTART:20240331T010000
END:DAYLIGHT
BEGIN:STANDARD
TZOFFSETFROM:+0100
TZOFFSETTO:+0000
TZNAME:GMT
DTSTART:20241027T010000
END:STANDARD
BEGIN:DAYLIGHT
TZOFFSETFROM:+0000
TZOFFSETTO:+0100
TZNAME:BST
DTSTART:20250330T010000
END:DAYLIGHT
BEGIN:STANDARD
TZOFFSETFROM:+0100
TZOFFSETTO:+0000
TZNAME:GMT
DTSTART:20251026T010000
END:STANDARD
END:VTIMEZONE
BEGIN:VEVENT
DTSTART;TZID=Europe/London:20240523T120000
DTEND;TZID=Europe/London:20240523T130000
DTSTAMP:20260421T161011
CREATED:20240429T082502Z
LAST-MODIFIED:20250422T123325Z
UID:17873-1716465600-1716469200@ebi.co.uk
SUMMARY:Cleaning the Green: Preparing for the FCA's green washing regulations with Rebecca Kowalski and Alan Whittle
DESCRIPTION:Cleaning the Green: Preparing for the FCA’s green washing regulations with Rebecca Kowalski and Alan Whittle\n\n\n\nDebbie will discuss the FCA’s upcoming ‘Greenwashing’ regulations with Rebecca Kowalski of Overstory Finance and Alan Whittle of Unburdened Solutions. \n\n\n\nTopics include: \n\n\n\n\nUnderstanding the FCA anti-greenwashing rules.\n\n\n\nIdentify how these fit into wider consumer protection measures.\n\n\n\nRecognise how advisers might be at risk of greenwashing or inadvertently break the anti-greenwashing rules themselves.\n\n\n\nIdentify the sustainability naming and marketing rules and align your investment communications with these.\n\n\n\nUnderstand the interaction with Consumer Duty.\n\n\n\n\nStructured CPD Applicable. For Financial Professionals Only \n\n\n\nBook your place\n\n\n\n\n\n\n\n\n\nDebbie Holmes\n\n\n\nDebbie Holmes is Business Development Manager at ebi Portfolios. Debbie is responsible for introducing ebi Portfolios to new advisers and building relationships with both new and existing firms\, providing training and support to onboard and utilise the tools and materials ebi provides it’s members. Debbie also works closely with the ebi team to provide feedback and development ideas from advisers. \n\n\n\n\n\n\n\nRebecca Kowalski\, Director at Overstory Finance\n\n\n\nRebecca decided to launch Overstory Finance to help IFAs embrace sustainable investing / financial planning and ensure that our profession fully plays its part in tackling nature\, resource and climate challenges. Overstory delivers sustainable finance training\, proposition building\, due diligence and communications and collaborates with multiple stakeholders within finance\, other professions\, charities and business groups. \n\n\n\n\n\n\n\nAlan Whittle\, Director at Unburdened Solutions\n\n\n\nAlan is a Chartered Financial Planner and Fellow of the Personal Finance Society\, with an MSc (with Distinction) in Financial Planning and Business Management from Manchester Metropolitan University. Alan also holds specialist qualifications in Compliance and Sustainable Finance. \n\n\n\nAlan splits his time providing Consultancy and Training to financial planning firms via Unburdened Solutions and Understanding Sustainability as well as between researching Behavioural Finance and Impact Investing for a PhD in Financial Planning with Manchester Metropolitan University\, and lecturing in Sustainable Finance at Robert Gordons University in Aberdeen.
URL:https://ebi.co.uk/events/cleaning-the-green-preparing-for-the-fcas-green-washing-regulations-with-rebecca-kowalski-and-alan-whittle/
LOCATION:Online
ATTACH;FMTTYPE=image/png:https://ebi.co.uk/wp-content/uploads/2024/04/website.png
END:VEVENT
END:VCALENDAR