BEGIN:VCALENDAR
VERSION:2.0
PRODID:-//Evidence Based Investing - ECPv6.15.18//NONSGML v1.0//EN
CALSCALE:GREGORIAN
METHOD:PUBLISH
X-WR-CALNAME:Evidence Based Investing
X-ORIGINAL-URL:https://ebi.co.uk
X-WR-CALDESC:Events for Evidence Based Investing
REFRESH-INTERVAL;VALUE=DURATION:PT1H
X-Robots-Tag:noindex
X-PUBLISHED-TTL:PT1H
BEGIN:VTIMEZONE
TZID:Europe/London
BEGIN:DAYLIGHT
TZOFFSETFROM:+0000
TZOFFSETTO:+0100
TZNAME:BST
DTSTART:20230326T010000
END:DAYLIGHT
BEGIN:STANDARD
TZOFFSETFROM:+0100
TZOFFSETTO:+0000
TZNAME:GMT
DTSTART:20231029T010000
END:STANDARD
BEGIN:DAYLIGHT
TZOFFSETFROM:+0000
TZOFFSETTO:+0100
TZNAME:BST
DTSTART:20240331T010000
END:DAYLIGHT
BEGIN:STANDARD
TZOFFSETFROM:+0100
TZOFFSETTO:+0000
TZNAME:GMT
DTSTART:20241027T010000
END:STANDARD
BEGIN:DAYLIGHT
TZOFFSETFROM:+0000
TZOFFSETTO:+0100
TZNAME:BST
DTSTART:20250330T010000
END:DAYLIGHT
BEGIN:STANDARD
TZOFFSETFROM:+0100
TZOFFSETTO:+0000
TZNAME:GMT
DTSTART:20251026T010000
END:STANDARD
END:VTIMEZONE
BEGIN:VEVENT
DTSTART;TZID=Europe/London:20240417T120000
DTEND;TZID=Europe/London:20240417T140000
DTSTAMP:20260423T114050
CREATED:20240322T155846Z
LAST-MODIFIED:20250422T123325Z
UID:17781-1713355200-1713362400@ebi.co.uk
SUMMARY:Building a better business proposition with ebi and The Verve Group
DESCRIPTION:Building a better business proposition with ebi and The Verve Group\n\n\n\nHosted by Debbie and Keaton from ebi\, and Christian Markwick from the Verve Group who will discuss ‘Building a better business proposition’. \n\n\n\n\n\n\n\n\n\n\n\nStructured CPD Applicable. For Financial Professionals Only \n\n\n\nBook your place\n\n\n\n\n\n\n\n\n\nDebbie Holmes\n\n\n\nDebbie Holmes is Business Development Manager at ebi Portfolios. Debbie is responsible for introducing ebi Portfolios to new advisers and building relationships with both new and existing firms\, providing training and support to onboard and utilise the tools and materials ebi provides it’s members. Debbie also works closely with the ebi team to provide feedback and development ideas from advisers. \n\n\n\n\n\n\n\nKeaton Jones\n\n\n\nKeaton is Business Development Manager within ebi. Joining in 2022\, his main responsibilities include actively managing client relationships\, researching new business opportunities\, leading sales and training meetings and taking responsibility for day to day project management. \n\n\n\n\n\n\n\nChristian Markwick DipPFS\n\n\n\nHaving been an adviser\, training and competence manager and CF10/CF11 in the industry for many years\, Christian is very well placed to understand what makes firms tick\, what many are trying to achieve and how to assist them in getting there. He provides firms with pragmatic\, no-nonsense support\, helping them understand what their goals are and creating a path to help them achieve them.
URL:https://ebi.co.uk/events/verve-group-who-will-discuss-5-proposition-hot-topics-to-consider-for-your-business/
LOCATION:Birmingham\, Revolución de Cuba\, B2 5BN\, Revolución de Cuba\, Birmingham\, West Midlands\, B2 5BN\, United Kingdom
ATTACH;FMTTYPE=image/png:https://ebi.co.uk/wp-content/uploads/2024/03/birmingham.png
END:VEVENT
BEGIN:VEVENT
DTSTART;TZID=Europe/London:20240417T130000
DTEND;TZID=Europe/London:20240417T140000
DTSTAMP:20260423T114050
CREATED:20240214T123908Z
LAST-MODIFIED:20250422T123325Z
UID:17656-1713358800-1713362400@ebi.co.uk
SUMMARY:ebi Quarter One 2024 Update with Daniel Phillips of Northern Trust and Jonathan Griffiths of ebi
DESCRIPTION:ebi Quarter One 2024 Update with Daniel Phillips of Northern Trust and Jonathan Griffiths of ebi\n\n\n\nDaniel Phillips\, Director\, Asset Allocation Strategy at Northern Trust will provide a macroeconomic overview followed by an asset class review and ebi portfolio update from Jonathan Griffiths\, CFA\,  ebi’s Investment Product Manager. \n\n\n\nTopics to be covered include: \n\n\n\n\nQtr 1 macroeconomic overview\n\n\n\nAsset class overview\n\n\n\n\n\n\n\nFactor performance overview\n\n\n\n\n\n\n\n\nStructured CPD Applicable. For Financial Professionals Only \n\n\n\nBook your place\n\n\n\n\n\n\n\n\n\nJonathan Griffiths\, CFA\, Investment Product Manager at ebi\n\n\n\nJonathan is responsible for investment research and analysis\, communicating information on ebi’s portfolio suite\, and providing investment solutions to clients. Jonathan is a CFA Charterholder\, and graduated from the University of Nottingham with a BSc (Hons) Mathematics and Economics (First Class) degree. He holds the CFA UK Investment Management Certificate (IMC) and the CFA Institute Certificate in ESG Investing.
URL:https://ebi.co.uk/events/ebi-quarter-one-2024-update-with-daniel-philips-of-northern-trust-and-jonathan-griffiths-of-ebi/
LOCATION:Online
ATTACH;FMTTYPE=image/png:https://ebi.co.uk/wp-content/uploads/2024/02/website.png
END:VEVENT
END:VCALENDAR