BEGIN:VCALENDAR
VERSION:2.0
PRODID:-//Evidence Based Investing - ECPv6.15.18//NONSGML v1.0//EN
CALSCALE:GREGORIAN
METHOD:PUBLISH
X-ORIGINAL-URL:https://ebi.co.uk
X-WR-CALDESC:Events for Evidence Based Investing
REFRESH-INTERVAL;VALUE=DURATION:PT1H
X-Robots-Tag:noindex
X-PUBLISHED-TTL:PT1H
BEGIN:VTIMEZONE
TZID:Europe/London
BEGIN:DAYLIGHT
TZOFFSETFROM:+0000
TZOFFSETTO:+0100
TZNAME:BST
DTSTART:20220327T010000
END:DAYLIGHT
BEGIN:STANDARD
TZOFFSETFROM:+0100
TZOFFSETTO:+0000
TZNAME:GMT
DTSTART:20221030T010000
END:STANDARD
BEGIN:DAYLIGHT
TZOFFSETFROM:+0000
TZOFFSETTO:+0100
TZNAME:BST
DTSTART:20230326T010000
END:DAYLIGHT
BEGIN:STANDARD
TZOFFSETFROM:+0100
TZOFFSETTO:+0000
TZNAME:GMT
DTSTART:20231029T010000
END:STANDARD
BEGIN:DAYLIGHT
TZOFFSETFROM:+0000
TZOFFSETTO:+0100
TZNAME:BST
DTSTART:20240331T010000
END:DAYLIGHT
BEGIN:STANDARD
TZOFFSETFROM:+0100
TZOFFSETTO:+0000
TZNAME:GMT
DTSTART:20241027T010000
END:STANDARD
END:VTIMEZONE
BEGIN:VEVENT
DTSTART;TZID=Europe/London:20230718T100000
DTEND;TZID=Europe/London:20230718T110000
DTSTAMP:20260421T150806
CREATED:20230630T111228Z
LAST-MODIFIED:20230707T125144Z
UID:16204-1689674400-1689678000@ebi.co.uk
SUMMARY:Driving value and growth: Insights from Dimensional’s Global Advisor Study with Blair Anderson
DESCRIPTION:Driving Value and Growth: Insights from Dimensional’s Global Advisor Study\, with Blair Anderson of Dimentional\n\n\n\nDimensional’s Global Advisor Study captures insights from advisory and wealth management firms across the world. Join ebi and Dimensional to enhance your firm’s focus and strategy in delivering growth and value for clients. \n\n\n\nTopics to be covered include: \n\n\n\n\nInsights from the study – how are high performing firms driving growth?\n\n\n\nHow do UK firms compare to their global peers?\n\n\n\nUnderstanding what high performing firms do around their investment proposition.\n\n\n\nSetting a growth strategy for your firm.\n\n\n\nDelivering value to your clients.\n\n\n\n\n60 minutes of Structured CPD. For Financial Professionals Only \n\n\n\n  Register Here\n\n\n\n\n\nBlair Anderson\, Regional Director & Vice President at Dimensional Fund Advisers\n\n\n\nBlair Anderson is a Regional Director and Vice President in Dimensional’s Practice Management group. \n\n\n\nBased in the London office\, Blair helps financial advisors implement strategies and top practices in pursuit of growth\, improved profitability and success. He focuses on business planning\, operations\, the client experience\, human capital\, business growth and succession planning.
URL:https://ebi.co.uk/events/driving-value-and-growth-insights-from-dimensionals-global-advisor-study-with-blair-anderson/
LOCATION:Online
ATTACH;FMTTYPE=image/png:https://ebi.co.uk/wp-content/uploads/2023/06/website-1.png
END:VEVENT
END:VCALENDAR